BEGIN:VCALENDAR
VERSION:2.0
METHOD:PUBLISH
BEGIN:VEVENT
DTSTART:20251206T200000Z
DTEND:20251207T010000Z
LOCATION:Winston-Salem   Winston-Salem NC  
TRANSP: OPAQUE
SEQUENCE:0
UID:
DTSTAMP:20260425T104156Z
SUMMARY:WS Ambassadors Holiday Parade 2025
DESCRIPTION:The event is the WS Ambassadors Holiday Parade, held annually on the first Saturday of December at 5pm.

4th St Near Foothills, Downtown WS
PRIORITY:1
CLASS:PUBLIC
BEGIN:VALARM
TRIGGER:-PT10080M
ACTION:DISPLAY
DESCRIPTION:Reminder
END:VALARM
END:VEVENT
END:VCALENDAR
