BEGIN:VCALENDAR
VERSION:2.0
METHOD:PUBLISH
BEGIN:VEVENT
DTSTART:20250920T120000Z
DTEND:20250920T143000Z
LOCATION:85 Howard Gap Rd 85 Howard Gap Road Fletcher NC 28732 
TRANSP: OPAQUE
SEQUENCE:0
UID:
DTSTAMP:20260425T104157Z
SUMMARY:WNC Run Walk for Autism 2025
DESCRIPTION:5K walk and run to benefit autism programs in Buncombe county. Your group has participated before and is so much fun! We love having you!
PRIORITY:1
CLASS:PUBLIC
BEGIN:VALARM
TRIGGER:-PT10080M
ACTION:DISPLAY
DESCRIPTION:Reminder
END:VALARM
END:VEVENT
END:VCALENDAR
