BEGIN:VCALENDAR
VERSION:2.0
METHOD:PUBLISH
BEGIN:VEVENT
DTSTART:20251101T140000Z
DTEND:20251101T210000Z
LOCATION:1301 Fanning Bridge Rd 1301 Fanning Bridge Road Fletcher NC 28732 
TRANSP: OPAQUE
SEQUENCE:0
UID:
DTSTAMP:20260424T131721Z
SUMMARY:WNC Comic Con 2025
DESCRIPTION:Venue:  WNC Agricultural Center / Davis Event Center

Comic Con in the Western North Carolina community. Tons of Comics, Funko Pops, Toys, Pokemon, Retro games, Anime, Superhero merchandise to choose from. Tons of Cosplay, Costume Contest. Several Artist will be here. Great time for everyone.
PRIORITY:1
CLASS:PUBLIC
BEGIN:VALARM
TRIGGER:-PT10080M
ACTION:DISPLAY
DESCRIPTION:Reminder
END:VALARM
END:VEVENT
END:VCALENDAR
