BEGIN:VCALENDAR
VERSION:2.0
METHOD:PUBLISH
BEGIN:VEVENT
DTSTART:20260503T161500Z
DTEND:20260503T210000Z
LOCATION:951 Ballpark Wy 951 Ballpark Way Winston-Salem NC 27101 
TRANSP: OPAQUE
SEQUENCE:0
UID:
DTSTAMP:20260425T113121Z
SUMMARY:Winston-Salem Dash Star Wars Night
DESCRIPTION:Please Note: This is an official LFL event.  LFL events are handled differently than other events.  In order to ensure that we adhere to all LFL rules and guidelines, ONLY sign up here if you plan to attend in an approved 501st costume.  If you will be wearing a costume from another organization, sign up with that organization so that we can plan for limited numbers and ensure that all are trooping with an approved costume. Feel free to leave a comment if you are planning on attending under a different organization. 
Thank you

Winston-Salem Dash Star Wars Night 2026

Location: (Name and address) Truist Stadium; 951 Ballpark Way, Winston-Salem NC. 27101
Parking location and details: (Parking should be free) Parking will be in our media lot located at the stadium at the top lot near Broad Street, parking passes will be provided.
Event date: Sunday, May 3, 2026
Event start time & approx. end time: Gates Open: 12:45pm til about 4:30-5:00pm
Call time: (Should be 1 hour prior to game start or doors open) 12:15pm
Changing room details: Entertainment Room located on the ground level. It is coded and locked for item safe keeping.
Maximum number invited: 50

RSVP by date: Monday, April 20th
PRIORITY:1
CLASS:PUBLIC
BEGIN:VALARM
TRIGGER:-PT10080M
ACTION:DISPLAY
DESCRIPTION:Reminder
END:VALARM
END:VEVENT
END:VCALENDAR
