BEGIN:VCALENDAR
VERSION:2.0
METHOD:PUBLISH
BEGIN:VEVENT
DTSTART:20260522T223000Z
DTEND:20260523T020000Z
LOCATION:2223 Blockbuster Rd 2223 Blockbuster Road Wilmington NC 28412 
TRANSP: OPAQUE
SEQUENCE:0
UID:
DTSTAMP:20260425T104259Z
SUMMARY:Wilmington, The Mandalorian & Grogu (day 1)
DESCRIPTION:Lobby hangout for pictures with guests to help generate excitement for the next Star Wars release.

The "evil" Empire has "fallen" but Imperial warlords remain scattered throughout the galaxy. As the fledgling New Republic works to protect everything the Rebellion fought for, they enlist the help of legendary Mandalorian bounty hunter Din Djarin and his young apprentice Grogu.
PRIORITY:1
CLASS:PUBLIC
BEGIN:VALARM
TRIGGER:-PT10080M
ACTION:DISPLAY
DESCRIPTION:Reminder
END:VALARM
END:VEVENT
END:VCALENDAR
