BEGIN:VCALENDAR
VERSION:2.0
METHOD:PUBLISH
BEGIN:VEVENT
DTSTART:20250912T130000Z
DTEND:20250912T150000Z
LOCATION:2110 Aversboro Rd 2110 Aversboro Road Garner NC 27529 
TRANSP: OPAQUE
SEQUENCE:0
UID:
DTSTAMP:20260424T142329Z
SUMMARY:Welcoming Week 2025-2026
DESCRIPTION:Venue:  Poole Family YMCA

Welcoming Week is a chance for us to welcome all cultures and backgrounds into the YMCA.  We are looking to have some characters there from 9-11 AM during a weekday in the date range listed above if that works!  Just greeting and have photo opportunities for our members. 
PRIORITY:1
CLASS:PUBLIC
BEGIN:VALARM
TRIGGER:-PT10080M
ACTION:DISPLAY
DESCRIPTION:Reminder
END:VALARM
END:VEVENT
END:VCALENDAR
