BEGIN:VCALENDAR
VERSION:2.0
METHOD:PUBLISH
BEGIN:VEVENT
DTSTART:20251011T150000Z
DTEND:20251011T210000Z
LOCATION:Brooks Street  Brooks Street Wake Forest NC 27587 
TRANSP: OPAQUE
SEQUENCE:0
UID:
DTSTAMP:20260425T104146Z
SUMMARY:Wake Forest Pride Fest 2025
DESCRIPTION:Venue:  Downtown Wake Forest
Venue address:  E Owens Ave & S. Brooks St

Join us in celebrating the second annual Wake Forest Pride Fest this October on National Coming Out Day!

This vibrant and inclusive event will honor the courage and diversity of the LGBTQIA+ community with music, art, food, and community-centered programming.

Whether you're out, coming out, or showing up as an ally, come share in a day of pride, visibility, and love in the heart of Wake Forest!

We would love to work with anyone available that day from the 501st. We will have a photobooth available that is one of our sponsors. Options include (but aren't limited to): photobooth, roaming the kid zone, or if you'd like to have your own booth, I can connect you with the co-chair to help you secure a space for the day.

Map can be scene here: https://www.wakeforestpride.org/2025-wfp-fest

No costume weapons of any kind allowed at this event.
PRIORITY:1
CLASS:PUBLIC
BEGIN:VALARM
TRIGGER:-PT10080M
ACTION:DISPLAY
DESCRIPTION:Reminder
END:VALARM
END:VEVENT
END:VCALENDAR
