BEGIN:VCALENDAR
VERSION:2.0
METHOD:PUBLISH
BEGIN:VEVENT
DTSTART:20251214T000000Z
DTEND:20251214T040000Z
LOCATION:120 W 3rd St 120 West 3rd Street Winston-Salem NC 27101 
TRANSP: OPAQUE
SEQUENCE:0
UID:
DTSTAMP:20260425T104919Z
SUMMARY:Twin City Santa 2025
DESCRIPTION:Venue:  Kaleideum

Toy drive and Gala held after hours at a children’s museum
PRIORITY:1
CLASS:PUBLIC
BEGIN:VALARM
TRIGGER:-PT10080M
ACTION:DISPLAY
DESCRIPTION:Reminder
END:VALARM
END:VEVENT
END:VCALENDAR
