BEGIN:VCALENDAR
VERSION:2.0
METHOD:PUBLISH
BEGIN:VEVENT
DTSTART:20251018T213000Z
DTEND:20251018T233000Z
LOCATION:40 Patriots Point Rd 40 Patriots Point Road Mount Pleasant SC 29464 
TRANSP: OPAQUE
SEQUENCE:0
UID:
DTSTAMP:20260425T105051Z
SUMMARY:Trick or Treat on the Yorktown
DESCRIPTION:Trick or Treat on the USS Yorktown (Aircraft Carrier).

PRIORITY:1
CLASS:PUBLIC
BEGIN:VALARM
TRIGGER:-PT10080M
ACTION:DISPLAY
DESCRIPTION:Reminder
END:VALARM
END:VEVENT
END:VCALENDAR
