BEGIN:VCALENDAR
VERSION:2.0
METHOD:PUBLISH
BEGIN:VEVENT
DTSTART:20250426T133000Z
DTEND:20250426T143000Z
LOCATION:15 E Peace St 15 East Peace Street Raleigh NC 27604 
TRANSP: OPAQUE
SEQUENCE:0
UID:
DTSTAMP:20260425T103953Z
SUMMARY:Triangle VisionWalk
DESCRIPTION:This is a fundraiser for Foundation Fighting Blindness. We will have a few vendors, activities for kids, a brief stage program, and walk around the park. There will be low vision and blind attendees at this event.

PRIORITY:1
CLASS:PUBLIC
BEGIN:VALARM
TRIGGER:-PT10080M
ACTION:DISPLAY
DESCRIPTION:Reminder
END:VALARM
END:VEVENT
END:VCALENDAR
