BEGIN:VCALENDAR
VERSION:2.0
METHOD:PUBLISH
BEGIN:VEVENT
DTSTART:20251214T223000Z
DTEND:20251215T010000Z
LOCATION:Coleman Boulevard  Coleman Boulevard Mount Pleasant SC 29464 
TRANSP: OPAQUE
SEQUENCE:0
UID:
DTSTAMP:20260425T104929Z
SUMMARY:Town of Mount Pleasant Christmas Light Parade
DESCRIPTION:The Annual Town of Mount Pleasant Christmas Light Parade is held at night on Coleman Boulevard offering a unique opportunity for beautifully lit, creative floats.  All floats and participants must wear lights.  The route is a little over 1 mile.
PRIORITY:1
CLASS:PUBLIC
BEGIN:VALARM
TRIGGER:-PT10080M
ACTION:DISPLAY
DESCRIPTION:Reminder
END:VALARM
END:VEVENT
END:VCALENDAR
