BEGIN:VCALENDAR
VERSION:2.0
METHOD:PUBLISH
BEGIN:VEVENT
DTSTART:20250221T050000Z
DTEND:20250220T060000Z
LOCATION:Battleship North Carolina 1 Battleship Road Northeast Wilmington NC 28401 
TRANSP: OPAQUE
SEQUENCE:0
UID:
DTSTAMP:20260424T083948Z
SUMMARY:This is a Test Ya'll (Extreme Nothingness)
DESCRIPTION:Don't sign up unless you can sing karaoke
PRIORITY:1
CLASS:PUBLIC
BEGIN:VALARM
TRIGGER:-PT10080M
ACTION:DISPLAY
DESCRIPTION:Reminder
END:VALARM
END:VEVENT
END:VCALENDAR
