BEGIN:VCALENDAR
VERSION:2.0
METHOD:PUBLISH
BEGIN:VEVENT
DTSTART:20241109T150000Z
DTEND:20241109T210000Z
LOCATION:4751 State Hwy 49 4751 State Highway 49 Concord NC 28025 
TRANSP: OPAQUE
SEQUENCE:0
UID:
DTSTAMP:20260425T105046Z
SUMMARY:The Geekery Market @ Concord
DESCRIPTION:The Geekery Market is a festival of geeky artisans of ALL fandoms. Whoever you are, whatever your geekdom: you are welcome and included and part of the Geekery. It’s a place where you can buy handmade items that you might not find anywhere else – certainly not at those big box-type stores. In addition, you can enjoy fun and geeky music and activities. Most importantly, your participation helps a wonderful charity meet the nutritional needs within our local community. Come check out over 100 unique artisans selling their sci fi, fantasy and nerdy wares!
PRIORITY:1
CLASS:PUBLIC
BEGIN:VALARM
TRIGGER:-PT10080M
ACTION:DISPLAY
DESCRIPTION:Reminder
END:VALARM
END:VEVENT
END:VCALENDAR
