BEGIN:VCALENDAR
VERSION:2.0
METHOD:PUBLISH
BEGIN:VEVENT
DTSTART:20231125T220000Z
DTEND:20231126T030000Z
LOCATION:14523 Carowinds Blvd 14523 Carowinds Boulevard Fort Mill SC 29708 
TRANSP: OPAQUE
SEQUENCE:0
UID:
DTSTAMP:20260424T160427Z
SUMMARY:Carolina Garrison Christmas Party at Carowinds Winterfest
DESCRIPTION:This year, the Carolina Garrison has decided to have a Christmas Garrison Celebration at Carowinds Winterfest at the NC/SC border.  This is the only theme park in the US to cover 2 states!

We choose Carowinds as it's centrally located, has multiple forms of entertainment from an amazing display of Christmas lights, shows, music, food, and (according to my wife the most important thing) roller coasters!

Save the date for Saturday, November 25, 2023.  This will run from park open to close that day, which is 5 PM to 10 PM.  I believe the parking lot opens at 4:30, so we can all park and then met up at the front and make our way in.

This is a family friendly event, and members are encouraged to bring their families and/or kids.  

This party is open meaning if you choose to go off with your family and do your own thing, that isn't an issue.  We don't have to stay in one big group.  This is just a fun way we can all get together and have some fun, maybe get a huge group photo in our Carolina Hockey Jerseys or Racing Shirts (if it's not too cold), but at the same time, experience the park in a way that pleases you.

Tickets will be able to be purchased, for this event, directly from Carowinds at the front gates.  However, I recommend getting tickets a head of time, online.

You may use the below link to grab your Winterfest ticket(s) and/or parking pass (You'll need to click on the Winterfest Tab... don't forget to get a parking pass too):

https://cf-ca.store.cffunca.com/embed/store.php?merchant_id=9999730&emerchant_id=110&maut=f890446c38797e411b2d026ad37d1815c5b106c58b8b950fec2cfe5e8adce33e

Please note Carowinds is CASHLESS.  Cards only.

If you need to stay the night, lodging is great since this is Charlotte.  There are many options. 

On-site: 
Marriott: https://www.carowinds.com/resorts/springhill-suites-by-marriott-charlotte-at-carowinds
Camping: https://www.carowinds.com/resorts/camp-wilderness

They do usually have Winterfest packages.  Check the above links to confirm.  
There are also multiple other hotels, VRBOs, and campgrounds near by.  We're staying at the KOA about 10 minutes down the road and that runs about $150/night for a 6 person cabin.

I'll add more info here as questions or thoughts come up.  Just wanted everyone to be able to get a room if needed and mark off their calendar as it's exactly 100 days from the event at the time I'm posting this.  

Special thanks to Jeremey for backing this idea.  It's going to be a great night!

Legalese: This is not a troop.  This is a Garrison event. 
 ***Do not wear your costume to this event.***  
However, if you'd like to sign up below, you will need to choose an outfit due to the limitation of the forums.  Just pick anything... it's so we can see your name and get a head count.  Feel free to comment in the comments if you'd like to let us know of others in your party joining.

This is open to ALL active and reserve troopers, and their immediate family members.  (We strongly encourage you to become active if you're in reserve, however!) 

This will not count as a troop.
PRIORITY:1
CLASS:PUBLIC
BEGIN:VALARM
TRIGGER:-PT10080M
ACTION:DISPLAY
DESCRIPTION:Reminder
END:VALARM
END:VEVENT
END:VCALENDAR
