BEGIN:VCALENDAR
VERSION:2.0
METHOD:PUBLISH
BEGIN:VEVENT
DTSTART:20250504T170000Z
DTEND:20250504T200000Z
LOCATION:230 N Tryon St 230 North Tryon Street Charlotte NC 28202 
TRANSP: OPAQUE
SEQUENCE:0
UID:
DTSTAMP:20260425T105046Z
SUMMARY:Star Wars showing at the Carolina Theater
DESCRIPTION:The historic Carolina Theatre in Charlotte celebrates its grand reopening joining the worldwide celebration of Star Wars Day by showing one of the most iconic films of all time, 1977's Star Wars: A New Hope.
PRIORITY:1
CLASS:PUBLIC
BEGIN:VALARM
TRIGGER:-PT10080M
ACTION:DISPLAY
DESCRIPTION:Reminder
END:VALARM
END:VEVENT
END:VCALENDAR
