BEGIN:VCALENDAR
VERSION:2.0
METHOD:PUBLISH
BEGIN:VEVENT
DTSTART:20251004T150000Z
DTEND:20251004T170000Z
LOCATION:120 Hospital Ave 120 Hospital Avenue Lenoir NC 28645 
TRANSP: OPAQUE
SEQUENCE:0
UID:
DTSTAMP:20260425T104139Z
SUMMARY:Star Wars Reads
DESCRIPTION:We have held a few very small Star Wars Reads activities at our library, but would like to have a bigger event on Saturday, October 4. We will make pool noodle lightsabers and bake wookiee cookies. We would love to have someone come to take photos with people who aer coming to the event.
PRIORITY:1
CLASS:PUBLIC
BEGIN:VALARM
TRIGGER:-PT10080M
ACTION:DISPLAY
DESCRIPTION:Reminder
END:VALARM
END:VEVENT
END:VCALENDAR
