BEGIN:VCALENDAR
VERSION:2.0
METHOD:PUBLISH
BEGIN:VEVENT
DTSTART:20260502T150000Z
DTEND:20260502T170000Z
LOCATION:300 E Rutledge Ave 300 East Rutledge Avenue Gaffney SC 29340 
TRANSP: OPAQUE
SEQUENCE:0
UID:
DTSTAMP:20260424T132008Z
SUMMARY:Star Wars Day at the Library 2026
DESCRIPTION:Venue:  Cherokee County Public Library

We will have a Star Wars themed story time for younger patrons followed by a "how to build your own laser sword" craft. We will then have a showing of "Rogue One: A Star Wars Story" to celebrate the films 10th anniversary.
PRIORITY:1
CLASS:PUBLIC
BEGIN:VALARM
TRIGGER:-PT10080M
ACTION:DISPLAY
DESCRIPTION:Reminder
END:VALARM
END:VEVENT
END:VCALENDAR
