BEGIN:VCALENDAR
VERSION:2.0
METHOD:PUBLISH
BEGIN:VEVENT
DTSTART:20250503T140000Z
DTEND:20250503T220000Z
LOCATION:1970 Ashley River Rd unit a 1970 Ashley River Road Charleston SC 29407 
TRANSP: OPAQUE
SEQUENCE:0
UID:
DTSTAMP:20260425T185439Z
SUMMARY:Star Wars Day at The Green Dragon
DESCRIPTION:Promote Star Wars Shatterpoint during May the 4th Weekend
Open to Rebel Legion, Mandalorian Mercs Costume Club and R2 Droid Builders
PRIORITY:1
CLASS:PUBLIC
BEGIN:VALARM
TRIGGER:-PT10080M
ACTION:DISPLAY
DESCRIPTION:Reminder
END:VALARM
END:VEVENT
END:VCALENDAR
