BEGIN:VCALENDAR
VERSION:2.0
METHOD:PUBLISH
BEGIN:VEVENT
DTSTART:20260315T180000Z
DTEND:20260315T210000Z
LOCATION:Jeff's Barbering 1971 Riviera Drive Mount Pleasant SC 29464 
TRANSP: OPAQUE
SEQUENCE:0
UID:
DTSTAMP:20260425T104635Z
SUMMARY:ST. BALDRICK’S EVENT Lowcountry Bald
DESCRIPTION:Be a hero for kids with cancer and celebrate 10 years of Lowcountry Bald's head-shaving zaniness to conquer childhood cancer with the St. Baldrick’s Foundation!

You’ll be giving hope to thousands of kids diagnosed with cancer every day – from babies and toddlers to children, teens and young adults. In fact, you’ll be saving lives!

Our event will speed the search for cures through St. Baldrick’s, the largest charity funder of childhood cancer research grants.

Sign up to participate or to raise money another way. Can’t join us? Please make a generous donation to give kids the long, healthy lives they deserve.

You can accelerate the next 25 years of cures for kids with cancer!


You don't need to have any members shave, but they are welcome to.
PRIORITY:1
CLASS:PUBLIC
BEGIN:VALARM
TRIGGER:-PT10080M
ACTION:DISPLAY
DESCRIPTION:Reminder
END:VALARM
END:VEVENT
END:VCALENDAR
