BEGIN:VCALENDAR
VERSION:2.0
METHOD:PUBLISH
BEGIN:VEVENT
DTSTART:20260507T130000Z
DTEND:20260507T170000Z
LOCATION:507 Anderson Dr 507 Anderson Drive Bayboro NC 28515 
TRANSP: OPAQUE
SEQUENCE:0
UID:
DTSTAMP:20260425T104911Z
SUMMARY:Special Olympics Pamlico County Spring Games 2026
DESCRIPTION:Venue:  Pamlico County High School Track/Football field

The spring games is our largest athletic event for Special Olympics Pamlico County.  Athletes compete in track and field events.  We have a large "OlympicTown" area where the athletes can play games, get their faces painted, and generally have a good time. 
PRIORITY:1
CLASS:PUBLIC
BEGIN:VALARM
TRIGGER:-PT10080M
ACTION:DISPLAY
DESCRIPTION:Reminder
END:VALARM
END:VEVENT
END:VCALENDAR
