BEGIN:VCALENDAR
VERSION:2.0
METHOD:PUBLISH
BEGIN:VEVENT
DTSTART:20250329T140000Z
DTEND:20250329T160000Z
LOCATION:1821 Old Airport Rd 1821 Old Airport Road New Bern NC 28562 
TRANSP: OPAQUE
SEQUENCE:0
UID:
DTSTAMP:20260420T084332Z
SUMMARY:Special Needs Baseball New Bern 2025 Opening Day
DESCRIPTION:This is a baseball league for special needs children and adults, opening day.
PRIORITY:1
CLASS:PUBLIC
BEGIN:VALARM
TRIGGER:-PT10080M
ACTION:DISPLAY
DESCRIPTION:Reminder
END:VALARM
END:VEVENT
END:VCALENDAR
