BEGIN:VCALENDAR
VERSION:2.0
METHOD:PUBLISH
BEGIN:VEVENT
DTSTART:20251025T140000Z
DTEND:20251025T180000Z
LOCATION:Conway Sports and Fitness Center 1515 Mill Pond Road Conway SC 29527 
TRANSP: OPAQUE
SEQUENCE:0
UID:
DTSTAMP:20260425T105046Z
SUMMARY:South Carolina UFO Festival
DESCRIPTION:This is the inaugural SC UFO festival.  There will be various vendors and events.  All vendors have been asked to bring Halloween Candy.  Planning is still ongoing but I think the organizers are working to make this an indoor, early, trick or treating opportunity along with any UFO events and information they have.
PRIORITY:1
CLASS:PUBLIC
BEGIN:VALARM
TRIGGER:-PT10080M
ACTION:DISPLAY
DESCRIPTION:Reminder
END:VALARM
END:VEVENT
END:VCALENDAR
