BEGIN:VCALENDAR
VERSION:2.0
METHOD:PUBLISH
BEGIN:VEVENT
DTSTART:20260221T210000Z
DTEND:20260222T020000Z
LOCATION:5001 Coliseum Dr 5001 Coliseum Drive North Charleston SC 29418 
TRANSP: OPAQUE
SEQUENCE:0
UID:
DTSTAMP:20260425T104918Z
SUMMARY:South Carolina Stingrays Star Wars Night 2026
DESCRIPTION:Location: North Charleston Coliseum (5001 Coliseum Dr, North Charleston, SC 29418)
Parking location and details: Park in Lot A (Once I have attendees names, I will add to parking list for free parking)
Event date: February 21, 2026
Event start time & approx. end time: 6:05 - 9:00, doors at 5:05
Call time: 4:05
Changing room details: South Club Room
Maximum number invited: Unlimited (more the merrier)
PRIORITY:1
CLASS:PUBLIC
BEGIN:VALARM
TRIGGER:-PT10080M
ACTION:DISPLAY
DESCRIPTION:Reminder
END:VALARM
END:VEVENT
END:VCALENDAR
