BEGIN:VCALENDAR
VERSION:2.0
METHOD:PUBLISH
BEGIN:VEVENT
DTSTART:20241019T140000Z
DTEND:20241019T210000Z
LOCATION:758 Crabtree Rd 758 Crabtree Road Waynesville NC 28785 
TRANSP: OPAQUE
SEQUENCE:0
UID:
DTSTAMP:20260425T104910Z
SUMMARY:Smoky Mountain Geek Expo
DESCRIPTION:***THIS EVENT IS CANCELLED DUE TO THE HURRICANE***


What is the Smoky Mountain Geek Expo?
The Geek Expo is Waynesville, NC's premiere family-friendly pop-culture convention. We will bring guests, artists, and vendors to satisfy your geeky hunger! Our October expo is usually the weekend before Halloween—prime fall color season with the Great Smoky Mountains surrounding our communities.

Venue:  Smoky Mountain Event Center

NOTES & CON/FAIRE PROTOCOLS:
-PLEASE NO FOOD OR DRINK near backdrops, member costumes, props & booth tables to avoid damages. Bottled water ONLY.
-If you don't plan on buying food or drinks at the con, we suggest you pack your own as it will not be provided by the event.
-Consuming alcoholic beverages while working the booth in or out of costume is STRICTLY PROHIBITED per LFL standards.
-All troopers signed up on the forums will need to spend a 2-hour minimum in costume and/or help manning table. Leaving the booth in costume does not count within those 2 hours.
-If you decide to leave the booth while on duty, please inform fellow members so they can cover your spot.
-Members in attendance are responsible for their own costumes, props and children they bring. Children are to be supervised at all times.
-To troop the event and get credit for it, you must do so in an APPROVED costume. Any costumes in progress must have written approval by Command Staff sent to the Garrison POC for this event.
-Govern yourself professionally and be courteous to all costume members & attendees.  Be mindful of your language in front of guests.  Do not hold conversations with fellow members in front of the table space.
-Please be mindful and do not stand in front of table space, entry ways or exits.
PRIORITY:1
CLASS:PUBLIC
BEGIN:VALARM
TRIGGER:-PT10080M
ACTION:DISPLAY
DESCRIPTION:Reminder
END:VALARM
END:VEVENT
END:VCALENDAR
