BEGIN:VCALENDAR
VERSION:2.0
METHOD:PUBLISH
BEGIN:VEVENT
DTSTART:20251018T140000Z
DTEND:20251018T210000Z
LOCATION:758 Crabtree Rd 758 Crabtree Road Waynesville NC 28785 
TRANSP: OPAQUE
SEQUENCE:0
UID:
DTSTAMP:20260424T132155Z
SUMMARY:Smoky Mountain Geek Expo 2025
DESCRIPTION:SMGE is a pop culture, comic/nerd expo. Approx. Thirty vendors and 15 artists are set up. This is a yearly event that attracts 1,200-1,300 attendees, but we are expecting 1,500+ due to the cancellation last year caused by Hurricane Helene's flooding.
PRIORITY:1
CLASS:PUBLIC
BEGIN:VALARM
TRIGGER:-PT10080M
ACTION:DISPLAY
DESCRIPTION:Reminder
END:VALARM
END:VEVENT
END:VCALENDAR
