BEGIN:VCALENDAR
VERSION:2.0
METHOD:PUBLISH
BEGIN:VEVENT
DTSTART:20261017T140000Z
DTEND:20261017T210000Z
LOCATION:758 Crabtree Rd 758 Crabtree Road Waynesville NC 28785 
TRANSP: OPAQUE
SEQUENCE:0
UID:
DTSTAMP:20260424T221855Z
SUMMARY:Smoky Mountain Geek Expo
DESCRIPTION: Pop-culture expo celebrating all things geeky
PRIORITY:1
CLASS:PUBLIC
BEGIN:VALARM
TRIGGER:-PT10080M
ACTION:DISPLAY
DESCRIPTION:Reminder
END:VALARM
END:VEVENT
END:VCALENDAR
