BEGIN:VCALENDAR
VERSION:2.0
METHOD:PUBLISH
BEGIN:VEVENT
DTSTART:20251130T160000Z
DTEND:20251130T220000Z
LOCATION:105 N Lafayette St 105 North Lafayette Street Shelby NC 28150 
TRANSP: OPAQUE
SEQUENCE:0
UID:
DTSTAMP:20260424T132001Z
SUMMARY:Shelby Holiday Parade 2025
DESCRIPTION:Annual Shelby Christmas Parade.  We will be representing Imperial Comics.  There will be a truck and small car driving in parade.  As of now not sure about float/trailer. 
PRIORITY:1
CLASS:PUBLIC
BEGIN:VALARM
TRIGGER:-PT10080M
ACTION:DISPLAY
DESCRIPTION:Reminder
END:VALARM
END:VEVENT
END:VCALENDAR
