BEGIN:VCALENDAR
VERSION:2.0
METHOD:PUBLISH
BEGIN:VEVENT
DTSTART:20250405T140000Z
DTEND:20250405T220000Z
LOCATION:1 Exposition Dr 1 Exposition Drive Greenville SC 29607 
TRANSP: OPAQUE
SEQUENCE:0
UID:
DTSTAMP:20260425T104244Z
SUMMARY:SC Comicon Greenville, SC
DESCRIPTION:What you need to know!
SC Comicon is the State’s largest comic and pop-culture convention. This family-friendly event in Greenville, SC has something for fans of all ages—from the top creators in comics and celebrity guests, to toys, collectibles, and cosplayers…plus plenty of events and contests for the kids. Join us for SC Comicon 2025— our annual celebration of all things geek!
PRIORITY:1
CLASS:PUBLIC
BEGIN:VALARM
TRIGGER:-PT10080M
ACTION:DISPLAY
DESCRIPTION:Reminder
END:VALARM
END:VEVENT
END:VCALENDAR
