BEGIN:VCALENDAR
VERSION:2.0
METHOD:PUBLISH
BEGIN:VEVENT
DTSTART:20260228T170000Z
DTEND:20260228T220000Z
LOCATION:5959 Triangle Town Blvd 5959 Triangle Town Boulevard Raleigh NC 27616 
TRANSP: OPAQUE
SEQUENCE:0
UID:
DTSTAMP:20260425T104739Z
SUMMARY:RRG Triangle Town Kickoff 2026
DESCRIPTION:We're kicking off 2026 the right way with our first show of the year!
Mark your calendars for our Triangle Town Kickoff Show on February 28th from 12PM - 5PM.

We're rolling in with 85 vendors bringing the best of both worlds â€” retro and modern video games and consoles, Pokémon and TCG favorites, Funko, retro tech, Gundam, pop culture collectibles, and tons of geeky arts and crafts you won't find anywhere else. If it makes you nostalgic or gets you hyped, it'll be on the floor.

Show up in your best cosplay fit and take the spotlight in our cosplay runway, complete with professional photography. Test your skills in our gaming tournaments, or just chill and play in the free-play area with friends.

This is all about celebrating the community â€” the gamers, collectors, creators, and fans who make it special. Come hang with us, feel the vibes, and help us start 2026 strong.
PRIORITY:1
CLASS:PUBLIC
BEGIN:VALARM
TRIGGER:-PT10080M
ACTION:DISPLAY
DESCRIPTION:Reminder
END:VALARM
END:VEVENT
END:VCALENDAR
