BEGIN:VCALENDAR
VERSION:2.0
METHOD:PUBLISH
BEGIN:VEVENT
DTSTART:20250426T203000Z
DTEND:20250427T010000Z
LOCATION:3308 Village Market Place 3308 Village Market Place Morrisville NC 27560 
TRANSP: OPAQUE
SEQUENCE:0
UID:
DTSTAMP:20260425T104923Z
SUMMARY:ROTS 20th Anniversary Showings in Morrisville
DESCRIPTION:The B&B Theatre in Morrisville NC has invited us to come hangout in their lobby for fun photo op chances with guests as they are showing the 20th Anniversary Re-release of Revenge of the Sith.

PRIORITY:1
CLASS:PUBLIC
BEGIN:VALARM
TRIGGER:-PT10080M
ACTION:DISPLAY
DESCRIPTION:Reminder
END:VALARM
END:VEVENT
END:VCALENDAR
