BEGIN:VCALENDAR
VERSION:2.0
METHOD:PUBLISH
BEGIN:VEVENT
DTSTART:20250627T210000Z
DTEND:20250628T010000Z
LOCATION:529 Moye Blvd 529 Moye Boulevard Greenville NC 27834 
TRANSP: OPAQUE
SEQUENCE:0
UID:
DTSTAMP:20260425T104139Z
SUMMARY:Ronald McDonald House
DESCRIPTION:EDIT: 23Jun25 - This has been cancelled and will be rescheduled at a later time.


This is Movie night with activities for kids and there families at the Ronald McDonald house and the Maynard Children's Hospital
PRIORITY:1
CLASS:PUBLIC
BEGIN:VALARM
TRIGGER:-PT10080M
ACTION:DISPLAY
DESCRIPTION:Reminder
END:VALARM
END:VEVENT
END:VCALENDAR
