BEGIN:VCALENDAR
VERSION:2.0
METHOD:PUBLISH
BEGIN:VEVENT
DTSTART:20250505T200000Z
DTEND:20250505T220000Z
LOCATION:120 Palmetto Way 120 Palmetto Way Bluffton SC 29910 
TRANSP: OPAQUE
SEQUENCE:0
UID:
DTSTAMP:20260423T085034Z
SUMMARY:Revenge of the Fifth - Public Library
DESCRIPTION:This is a community event at the public library. We'll have kids' Jedi training and teen and adult trivia.
PRIORITY:1
CLASS:PUBLIC
BEGIN:VALARM
TRIGGER:-PT10080M
ACTION:DISPLAY
DESCRIPTION:Reminder
END:VALARM
END:VEVENT
END:VCALENDAR
