BEGIN:VCALENDAR
VERSION:2.0
METHOD:PUBLISH
BEGIN:VEVENT
DTSTART:20251121T220000Z
DTEND:20251122T010000Z
LOCATION:670 Verdae Blvd 670 Verdae Boulevard Greenville SC 29607 
TRANSP: OPAQUE
SEQUENCE:0
UID:
DTSTAMP:20260425T104146Z
SUMMARY:Retro Toy Con 2025
DESCRIPTION:Toy Federation is proud to present the Retro-Toy Convention November 21-23, 2025 at the Embassy Suites Golf Resort and Convention Center in Greenville, SC. This is South Carolina’s ONLY convention dedicated to vintage and modern era toys and collectibles. Join us for a fun filled weekend as we welcome toy vendors from around the country, celebrity guests, cosplay, panels and much more!
PRIORITY:1
CLASS:PUBLIC
BEGIN:VALARM
TRIGGER:-PT10080M
ACTION:DISPLAY
DESCRIPTION:Reminder
END:VALARM
END:VEVENT
END:VCALENDAR
