BEGIN:VCALENDAR
VERSION:2.0
METHOD:PUBLISH
BEGIN:VEVENT
DTSTART:20241122T220000Z
DTEND:20241123T010000Z
LOCATION:680 Verdae Blvd 680 Verdae Boulevard Greenville SC 29607 
TRANSP: OPAQUE
SEQUENCE:0
UID:
DTSTAMP:20260425T111002Z
SUMMARY:Retro Toy Con 2024
DESCRIPTION:Venue:  The embassy suites hotel in Greenville
Venue address:  680 Verde Boulevard
                Greenville , South Carolina
                29607
                USA
Event Start:  11/22/2024  - 1800hrs
Event End:    11/24/2024  - 1400 hrs
Event Website: 
Expected number of attendees:  800
Requested number of characters:  12
Requested character types:
Secure changing/staging area: Yes
Can troopers carry blasters: Yes
Can troopers carry/bring props like lightsabers and staffs: Yes
Is parking available: Yes
Is venue accessible to those with limited mobility: Yes
Amenities available at venue: Water, 12 passes and  restroom available
Comments: Another request had come in for the Defenders and we would like to include our friends at the 501st / RL and Other LFL groups for  Greenville Retro Toy Con 2024

We have room for 12 characters from all LFL groups.
We do have limited table space and will be in the hallway like we normally are outside of the convention.
PRIORITY:1
CLASS:PUBLIC
BEGIN:VALARM
TRIGGER:-PT10080M
ACTION:DISPLAY
DESCRIPTION:Reminder
END:VALARM
END:VEVENT
END:VCALENDAR
