BEGIN:VCALENDAR
VERSION:2.0
METHOD:PUBLISH
BEGIN:VEVENT
DTSTART:20251122T120000Z
DTEND:20251122T160000Z
LOCATION:128 W South St 128 West South Street Raleigh NC 27601 
TRANSP: OPAQUE
SEQUENCE:0
UID:
DTSTAMP:20260425T104803Z
SUMMARY:Raleigh Christmas Parade 2025
DESCRIPTION:It's that time again!  

The annual Raleigh Christmas Parade is coming up on November 22nd.  

It'll be the same as last year, muster will be at the parking deck at the corner of South McDowell and Lenoir St, next to the Raleigh Convention Center.  

We'll trek to the rally point for the parade, which will kick off at 9:30 SHARP!  Please remember that they don't wait for us so we will need to be in place ready to go no later than 8:45 AM.  Get to the parking deck by 7 AM as they will begin to shut down streets at that time.
PRIORITY:1
CLASS:PUBLIC
BEGIN:VALARM
TRIGGER:-PT10080M
ACTION:DISPLAY
DESCRIPTION:Reminder
END:VALARM
END:VEVENT
END:VCALENDAR
