BEGIN:VCALENDAR
VERSION:2.0
METHOD:PUBLISH
BEGIN:VEVENT
DTSTART:20241123T113000Z
DTEND:20241123T170000Z
LOCATION:128 W South St 128 West South Street Raleigh NC 27601 
TRANSP: OPAQUE
SEQUENCE:0
UID:
DTSTAMP:20260424T131838Z
SUMMARY:Raleigh Christmas Parade 2024
DESCRIPTION:Annual Raleigh Christmas Parade.  Parking will be at the parking deck at the corner of McDowell and Lenoir St in Downtown Raleigh.  This is also the end point of the parade so once it finishes, we can de-kit and leave.

SIDE NOTE:  The city of Raleigh is having us sign waivers this year and it must be signed by Nov. 13.  Use this link: https://waiver.smartwaiver.com/w/tdk3xoit4fuxejsfwidhhs/web/

Cut Off to sign up will be Nov 13 due to waiver needing signed by that day.
PRIORITY:1
CLASS:PUBLIC
BEGIN:VALARM
TRIGGER:-PT10080M
ACTION:DISPLAY
DESCRIPTION:Reminder
END:VALARM
END:VEVENT
END:VCALENDAR
