BEGIN:VCALENDAR
VERSION:2.0
METHOD:PUBLISH
BEGIN:VEVENT
DTSTART:20251108T150000Z
DTEND:20251108T190000Z
LOCATION:2854 Old Hwy 52 2854 Old Highway 52 Moncks Corner SC 29461 
TRANSP: OPAQUE
SEQUENCE:0
UID:
DTSTAMP:20260425T104919Z
SUMMARY:Pimlico Fire Department Community Open House
DESCRIPTION: This is a fire department community event meant to celebrate the community that is servied by Pimlico Fire Department and showcase the brand new fire department headquarters station.
PRIORITY:1
CLASS:PUBLIC
BEGIN:VALARM
TRIGGER:-PT10080M
ACTION:DISPLAY
DESCRIPTION:Reminder
END:VALARM
END:VEVENT
END:VCALENDAR
