BEGIN:VCALENDAR
VERSION:2.0
METHOD:PUBLISH
BEGIN:VEVENT
DTSTART:20250710T160000Z
DTEND:20250710T210000Z
LOCATION:1195 Blakeslee Ave 1195 Blakeslee Avenue Goldsboro NC 27531 
TRANSP: OPAQUE
SEQUENCE:0
UID:
DTSTAMP:20260425T104803Z
SUMMARY:Pegasus Community Outreach Angel Tree Fundraiser
DESCRIPTION:The Pegasus Community Outreach Team (PCOT) is a nonprofit organization dedicated to supporting the men and women of the 916th Air Refueling Wing at SJAFB. This fundraiser will be part of the wing’s drill weekend to raise funds or gift donations for the 2025 Angel Tree. Our goal is to have a healthy start to our Angel Tree campaign and double the number of families helped the previous year.
PRIORITY:1
CLASS:PUBLIC
BEGIN:VALARM
TRIGGER:-PT10080M
ACTION:DISPLAY
DESCRIPTION:Reminder
END:VALARM
END:VEVENT
END:VCALENDAR
