BEGIN:VCALENDAR
VERSION:2.0
METHOD:PUBLISH
BEGIN:VEVENT
DTSTART:20250426T120000Z
DTEND:20250426T160000Z
LOCATION:161 Seven Farms Drive 161 Seven Farms Drive Charleston SC 29492 
TRANSP: OPAQUE
SEQUENCE:0
UID:
DTSTAMP:20260425T104732Z
SUMMARY:Pat Tillman Honor Run
DESCRIPTION:Charity run supporting the Tillman Scholars. 501st members show up and mingle with the crowd before and during the event.
PRIORITY:1
CLASS:PUBLIC
BEGIN:VALARM
TRIGGER:-PT10080M
ACTION:DISPLAY
DESCRIPTION:Reminder
END:VALARM
END:VEVENT
END:VCALENDAR
