BEGIN:VCALENDAR
VERSION:2.0
METHOD:PUBLISH
BEGIN:VEVENT
DTSTART:20250505T150000Z
DTEND:20250505T170000Z
LOCATION:3005 Carrington Mill Blvd 3005 Carrington Mill Boulevard Morrisville NC 27560 
TRANSP: OPAQUE
SEQUENCE:0
UID:
DTSTAMP:20260425T104924Z
SUMMARY:Office Photo Op - Disney Office (Late May 4th Event)
DESCRIPTION:Venue:  Disney Office

Office stated they'd make a charity donation in our name.  Details TBD.

Celebrating May the 4th be with you (a day late)  :)

Photo Op / Meet and Greet

5 slots total - 3 CG & 2 RL.  If an R2 would want to go, I'm sure we can get them in their too.  2 weeks prior any unused slots will open up to all groups.
PRIORITY:1
CLASS:PUBLIC
BEGIN:VALARM
TRIGGER:-PT10080M
ACTION:DISPLAY
DESCRIPTION:Reminder
END:VALARM
END:VEVENT
END:VCALENDAR
