BEGIN:VCALENDAR
VERSION:2.0
METHOD:PUBLISH
BEGIN:VEVENT
DTSTART:20251024T213000Z
DTEND:20251024T230000Z
LOCATION:360 Meeting St 360 Meeting Street Charleston SC 29403 
TRANSP: OPAQUE
SEQUENCE:0
UID:
DTSTAMP:20260425T104919Z
SUMMARY:Nighttime at the Museum: Halloween Edition
DESCRIPTION:Kick off your Halloween celebrations at The Charleston Museum with a new take on our Nighttime at the Museum event! Wear your eerie-sistible costumes and explore the Museum as you trick or treat through the galleries with a spook-tacular scavenger hunt! Have a scream with hauntingly fun activities and crafts! Make sure to bring your treat bag and flashlight. You’ll be afraid to miss this event!
PRIORITY:1
CLASS:PUBLIC
BEGIN:VALARM
TRIGGER:-PT10080M
ACTION:DISPLAY
DESCRIPTION:Reminder
END:VALARM
END:VEVENT
END:VCALENDAR
