BEGIN:VCALENDAR
VERSION:2.0
METHOD:PUBLISH
BEGIN:VEVENT
DTSTART:20260221T163000Z
DTEND:20260221T180000Z
LOCATION:105 Atlantic Ave 105 Atlantic Avenue Kure Beach NC 28449 
TRANSP: OPAQUE
SEQUENCE:0
UID:
DTSTAMP:20260424T132043Z
SUMMARY:New Hanover County Special Olympics Polar Plunge 2026
DESCRIPTION:Fundraiser for Special Olympics
PRIORITY:1
CLASS:PUBLIC
BEGIN:VALARM
TRIGGER:-PT10080M
ACTION:DISPLAY
DESCRIPTION:Reminder
END:VALARM
END:VEVENT
END:VCALENDAR
