BEGIN:VCALENDAR
VERSION:2.0
METHOD:PUBLISH
BEGIN:VEVENT
DTSTART:20250208T150000Z
DTEND:20250208T200000Z
LOCATION:105 Atlantic Ave 105 Atlantic Avenue Kure Beach NC 28449 
TRANSP: OPAQUE
SEQUENCE:0
UID:
DTSTAMP:20260422T022553Z
SUMMARY:New Hanover County Special Olympics Polar Plunge 2025
DESCRIPTION:RUN - PLUNGE - OR BOTH
Because Some People Are Just Worth Freezing For!

Choose from the 5K, 1 Mile Fun Run/Walk, or by taking a chilling plunge into the Atlantic Ocean. Race participants are not required to plunge but are encouraged to heat up with the run/walk and cool down with the Polar Plunge – because some people are just worth freezing for!
Live music, vendors, food trucks and games make this a one-of-a-kind special event not to be missed!
PRIORITY:1
CLASS:PUBLIC
BEGIN:VALARM
TRIGGER:-PT10080M
ACTION:DISPLAY
DESCRIPTION:Reminder
END:VALARM
END:VEVENT
END:VCALENDAR
