BEGIN:VCALENDAR
VERSION:2.0
METHOD:PUBLISH
BEGIN:VEVENT
DTSTART:20260404T140000Z
DTEND:20260404T160000Z
LOCATION:1821 Old Airport Rd 1821 Old Airport Road New Bern NC 28562 
TRANSP: OPAQUE
SEQUENCE:0
UID:
DTSTAMP:20260425T104634Z
SUMMARY:New Bern Special Needs Baseball 2026
DESCRIPTION:This is a spring baseball league for special needs children and adults (ages 4 into the 70s). April 4th is our first game of the season. 
Our games start at 9:30 so 10AM is a great time to be ready to make your appearance in costume. 
The game will likely last until 11ish and we will have hotdogs afterwards where you might want to hang out and take pictures - depends on the temperature If it ends up being a hot day please feel free to change out of costume whenever you need to. 
We will have waters available in your changing area and feel free to grab a hotdog and soda before you leave.
PRIORITY:1
CLASS:PUBLIC
BEGIN:VALARM
TRIGGER:-PT10080M
ACTION:DISPLAY
DESCRIPTION:Reminder
END:VALARM
END:VEVENT
END:VCALENDAR
