BEGIN:VCALENDAR
VERSION:2.0
METHOD:PUBLISH
BEGIN:VEVENT
DTSTART:20251011T140000Z
DTEND:20251011T200000Z
LOCATION:Sullivan Middle School 1825 Eden Terrace Rock Hill SC 29730 
TRANSP: OPAQUE
SEQUENCE:0
UID:
DTSTAMP:20260425T104024Z
SUMMARY:Nerdfest
DESCRIPTION:A comic convention put on by 2 fan boys and vendors. Lots of space. Held inside a gymnasium. Food trucks outside
PRIORITY:1
CLASS:PUBLIC
BEGIN:VALARM
TRIGGER:-PT10080M
ACTION:DISPLAY
DESCRIPTION:Reminder
END:VALARM
END:VEVENT
END:VCALENDAR
