BEGIN:VCALENDAR
VERSION:2.0
METHOD:PUBLISH
BEGIN:VEVENT
DTSTART:20260411T140000Z
DTEND:20260412T020000Z
LOCATION:South Front Street  South Front Street Wilmington NC 28401 
TRANSP: OPAQUE
SEQUENCE:0
UID:
DTSTAMP:20260425T111109Z
SUMMARY:NC Azalea Festival 2026
DESCRIPTION:Accessibility

The Street Fair is a fully walkable event. Guests who require ADA forms of transportation will be allowed to use these as needed. The Festival and the City of Wilmington will not be able to provide guests with ADA transportation. Please plan accordingly.

Food & Drink

Food and beverage will be available for purchase via food vendors along the Street Fair route. Guests can bring their own food and beverage, but are highly encouraged to visit the food vendors we have on-site to get the best experience.

Entertainment & Activities

Guests who are visiting the Street Fair can expect to be met with hundreds of vendors throughout the weekend. The Street Fair also consists of a Performing Arts Stage, where guests can watch different kinds of performances on Saturday, a Children’s Area full of vendors dedicated to activities just for kids, and the Azalea Alley Beer & Wine Garden, where guests can go to enjoy live music, and purchase food and beverages.

Amenities & Services

Any items that are left on-site by guests will be returned to the Festival Ticket Office lost & found. Guests will need to come to the office to pick up their lost belongings.

Weather Contingencies

This is a rain or shine event. In the case of inclement weather, the Festival will announce any and all event changes on social media.

Ticket Information
The Street Fair is a free event! Food, drink, and merchandise will be available for purchase throughout the Street Fair route.
PRIORITY:1
CLASS:PUBLIC
BEGIN:VALARM
TRIGGER:-PT10080M
ACTION:DISPLAY
DESCRIPTION:Reminder
END:VALARM
END:VEVENT
END:VCALENDAR
