BEGIN:VCALENDAR
VERSION:2.0
METHOD:PUBLISH
BEGIN:VEVENT
DTSTART:20241001T220000Z
DTEND:20241002T010000Z
LOCATION:2223 Blockbuster Rd 2223 Blockbuster Road Wilmington NC 28412 
TRANSP: OPAQUE
SEQUENCE:0
UID:
DTSTAMP:20260425T104243Z
SUMMARY:National Night Out
DESCRIPTION:Venue:  The Pointe 14
PRIORITY:1
CLASS:PUBLIC
BEGIN:VALARM
TRIGGER:-PT10080M
ACTION:DISPLAY
DESCRIPTION:Reminder
END:VALARM
END:VEVENT
END:VCALENDAR
