BEGIN:VCALENDAR
VERSION:2.0
METHOD:PUBLISH
BEGIN:VEVENT
DTSTART:20261113T190000Z
DTEND:20261113T210000Z
LOCATION:10 McClennan Banks Dr 10 McClennan Banks Drive Charleston SC 29425 
TRANSP: OPAQUE
SEQUENCE:0
UID:
DTSTAMP:20260425T105122Z
SUMMARY:MUSC Shawn Jenkins Children's Hospital Visit
DESCRIPTION:MUSC Shawn Jenkins Children's Hospital Visit
PRIORITY:1
CLASS:PUBLIC
BEGIN:VALARM
TRIGGER:-PT10080M
ACTION:DISPLAY
DESCRIPTION:Reminder
END:VALARM
END:VEVENT
END:VCALENDAR
