BEGIN:VCALENDAR
VERSION:2.0
METHOD:PUBLISH
BEGIN:VEVENT
DTSTART:20251209T170000Z
DTEND:20251209T190000Z
LOCATION:Medical University of South Carolina 268 Calhoun Street Charleston SC 29425 
TRANSP: OPAQUE
SEQUENCE:0
UID:
DTSTAMP:20260425T172420Z
SUMMARY:MUSC Angel Tree Christmas Parade
DESCRIPTION:MUSC Angel Tree Christmas parade
PRIORITY:1
CLASS:PUBLIC
BEGIN:VALARM
TRIGGER:-PT10080M
ACTION:DISPLAY
DESCRIPTION:Reminder
END:VALARM
END:VEVENT
END:VCALENDAR
