BEGIN:VCALENDAR
VERSION:2.0
METHOD:PUBLISH
BEGIN:VEVENT
DTSTART:20251108T150000Z
DTEND:20251108T220000Z
LOCATION:300 Collett St 300 Collett Street Morganton NC 28655 
TRANSP: OPAQUE
SEQUENCE:0
UID:
DTSTAMP:20260425T104243Z
SUMMARY:Morganton Comic Con 3 - Winter 2025
DESCRIPTION:Morganton Comic Con 3 - We have a great lineup of Dealers lined up selling Comic Books, Funko pops, Pokémon, Toys, Art, Anime, Cosplay, Super Hero collectibles and more. 
Costume contest for all and some great costumes.

15 total slots.  8 for CG / 7 for other groups.
PRIORITY:1
CLASS:PUBLIC
BEGIN:VALARM
TRIGGER:-PT10080M
ACTION:DISPLAY
DESCRIPTION:Reminder
END:VALARM
END:VEVENT
END:VCALENDAR
